BEGIN:VCALENDAR
VERSION:2.0
PRODID:-//Michigan Fly Fishing Club - ECPv6.15.20//NONSGML v1.0//EN
CALSCALE:GREGORIAN
METHOD:PUBLISH
X-ORIGINAL-URL:https://mffc.org
X-WR-CALDESC:Events for Michigan Fly Fishing Club
REFRESH-INTERVAL;VALUE=DURATION:PT1H
X-Robots-Tag:noindex
X-PUBLISHED-TTL:PT1H
BEGIN:VTIMEZONE
TZID:America/Detroit
BEGIN:DAYLIGHT
TZOFFSETFROM:-0500
TZOFFSETTO:-0400
TZNAME:EDT
DTSTART:20250309T070000
END:DAYLIGHT
BEGIN:STANDARD
TZOFFSETFROM:-0400
TZOFFSETTO:-0500
TZNAME:EST
DTSTART:20251102T060000
END:STANDARD
BEGIN:DAYLIGHT
TZOFFSETFROM:-0500
TZOFFSETTO:-0400
TZNAME:EDT
DTSTART:20260308T070000
END:DAYLIGHT
BEGIN:STANDARD
TZOFFSETFROM:-0400
TZOFFSETTO:-0500
TZNAME:EST
DTSTART:20261101T060000
END:STANDARD
BEGIN:DAYLIGHT
TZOFFSETFROM:-0500
TZOFFSETTO:-0400
TZNAME:EDT
DTSTART:20270314T070000
END:DAYLIGHT
BEGIN:STANDARD
TZOFFSETFROM:-0400
TZOFFSETTO:-0500
TZNAME:EST
DTSTART:20271107T060000
END:STANDARD
END:VTIMEZONE
BEGIN:VEVENT
DTSTART;TZID=America/Detroit:20260306T090000
DTEND;TZID=America/Detroit:20260307T160000
DTSTAMP:20260419T185609
CREATED:20260104T175059Z
LAST-MODIFIED:20260112T032539Z
UID:874-1772787600-1772899200@mffc.org
SUMMARY:Midwest Fly Fishing Expo
DESCRIPTION:2026 Expo Postcard\nLearn from nationally recognized professionals. \nTalk to experts.\nCast rods on the full sized in-house pond!\n\nThe Expo runs on volunteers.\nWant to help?  Click here!\nThe show is Friday\, 3/6 from 1:00 to 9:00 and Saturday\, 3/7 from 9:00 to 6:00.\nFor two days each March\, the Michigan Fly Fishing Club (MFFC) hosts the Great Lakes-area’s premier event for all things fly fishing — the Midwest Fly Fishing Expo.  This learning extravaganza is the oldest all-fly fishing event east of the Mississippi!   \nOrganized and run exclusively by MFFC volunteers\, the show typically features five headline speakers\, dozens of free seminars about fly fishing skills\, techniques and destinations\, dozens of fly tying demonstrations and more than 120 exhibitors.  Exhibitors include outfitters and retailers from across the country\, guides\, rod- and net-building artisans\, artists\, authors\, dealers in rare and collectible books and memorabilia and conservation organizations.  \nBest of all\, because the 54-year-old MFFC is a registered 501(c)(3) non-profit organization\, proceeds from the Expo flow right back to support the Club’s educational programs and to fund a variety of grants conservation organizations across the state to restore and enhance Michigan’s rivers and lakes.  Over the years the MFFC has provided grants totaling more than $400\,000 for such causes.   \nAdmission is $15 for a one day ticket\, $20 for a two-day ticket. \nWe look forward to seeing your there! \nExpo Site : Click here \nTickets:  Click here \nVenue:  Click here \nVolunteer & Get In Free:  Click here. \nCheck in at the Club room for perks.
URL:https://mffc.org/event/midwest-fly-fishing-expo/
LOCATION:Oakland Expo Center\, 2212 Mall Dr E\, Waterford Township\, MI\, 48328\, United States
CATEGORIES:Education,Events,Kids,Outings,Women
ATTACH;FMTTYPE=image/jpeg:https://mffc.org/wp-content/uploads/2020/10/20170311_161040-scaled.jpg
ORGANIZER;CN="Joe Sprys":MAILTO:flyfishmichigan@gmail.com
END:VEVENT
END:VCALENDAR