BEGIN:VCALENDAR
VERSION:2.0
PRODID:-//Michigan Fly Fishing Club - ECPv6.15.20//NONSGML v1.0//EN
CALSCALE:GREGORIAN
METHOD:PUBLISH
X-WR-CALNAME:Michigan Fly Fishing Club
X-ORIGINAL-URL:https://mffc.org
X-WR-CALDESC:Events for Michigan Fly Fishing Club
REFRESH-INTERVAL;VALUE=DURATION:PT1H
X-Robots-Tag:noindex
X-PUBLISHED-TTL:PT1H
BEGIN:VTIMEZONE
TZID:America/Detroit
BEGIN:DAYLIGHT
TZOFFSETFROM:-0500
TZOFFSETTO:-0400
TZNAME:EDT
DTSTART:20250309T070000
END:DAYLIGHT
BEGIN:STANDARD
TZOFFSETFROM:-0400
TZOFFSETTO:-0500
TZNAME:EST
DTSTART:20251102T060000
END:STANDARD
BEGIN:DAYLIGHT
TZOFFSETFROM:-0500
TZOFFSETTO:-0400
TZNAME:EDT
DTSTART:20260308T070000
END:DAYLIGHT
BEGIN:STANDARD
TZOFFSETFROM:-0400
TZOFFSETTO:-0500
TZNAME:EST
DTSTART:20261101T060000
END:STANDARD
BEGIN:DAYLIGHT
TZOFFSETFROM:-0500
TZOFFSETTO:-0400
TZNAME:EDT
DTSTART:20270314T070000
END:DAYLIGHT
BEGIN:STANDARD
TZOFFSETFROM:-0400
TZOFFSETTO:-0500
TZNAME:EST
DTSTART:20271107T060000
END:STANDARD
END:VTIMEZONE
BEGIN:VEVENT
DTSTART;VALUE=DATE:20260716
DTEND;VALUE=DATE:20260720
DTSTAMP:20260419T220218
CREATED:20260107T152444Z
LAST-MODIFIED:20260208T192404Z
UID:1234-1784160000-1784505599@mffc.org
SUMMARY:WaWaSum Bourbon & Browns
DESCRIPTION:WaWaBourbon&Browns2026 Flyer Coming Soon\nJuly 16-19 2026\n$250/person\nAu Sable River’s fabled “Holy Waters”\nIncludes: Bourbon. Meal Plan TBD.\n4 Days & 3 Night stay at the Rustic\nWaWa Sum Lodge\nClick to download the flyer\nBring your Kayak\, Drift Boat\, Canoe or Waders.\nCasting & Biggest Fish Competitions\nAll Members Welcome!\n$50 deposit required to secure your spot!\nLimited Availability (18 beds)\nTo reserve your spot\, call or text\nTom Coleman 248-444-9202\nTJCole6@gmail.com \nJames Harris 313-573-7108\n 
URL:https://mffc.org/event/bourbon-and-browns/
LOCATION:Camp Wa Wa Sum\, Whirlpool Road\, Grayling\, MI\, United States
CATEGORIES:Education,Events,Outings,Women
ATTACH;FMTTYPE=image/png:https://mffc.org/wp-content/uploads/2025/01/BourbonAndBrowns_thumbnail.png
ORGANIZER;CN="James Harris":MAILTO:j.e.harris3033@gmail.com
END:VEVENT
BEGIN:VEVENT
DTSTART;TZID=America/Detroit:20260718T083000
DTEND;TZID=America/Detroit:20260718T143000
DTSTAMP:20260419T220218
CREATED:20240316T161401Z
LAST-MODIFIED:20250830T022309Z
UID:2029-1784363400-1784385000@mffc.org
SUMMARY:MFFC Picnic
DESCRIPTION:Come join the fellow Club members at the annual MFFC picnic at Multi Lakes Conservation Association located at 3860 Newton Road\, Commerce Township\, MI 48382. \nPicnic food will be available\, bring your rod\, kayak\, belly boat for fishing! The shooting range will also be available for use. \nIf possible\, please check in with John Eriksson at johneriksson5@aol.com ahead of time to register your dish to pass. \n\nCLICK HERE FOR THIS YEAR’S FLYER (coming soon)
URL:https://mffc.org/event/mffc-picnic/
LOCATION:Multi Lakes Conservation Association\, 3860 Newton Rd\, Commerce Twp\, MI\, 48382\, United States
CATEGORIES:Events,Kids,Outings,Women
ATTACH;FMTTYPE=image/jpeg:https://mffc.org/wp-content/uploads/2022/03/PicnicDog-scaled.jpg
ORGANIZER;CN="John Eriksson":MAILTO:johneriksson5@aol.com
END:VEVENT
END:VCALENDAR