BEGIN:VCALENDAR
VERSION:2.0
PRODID:-//Michigan Fly Fishing Club - ECPv6.15.20//NONSGML v1.0//EN
CALSCALE:GREGORIAN
METHOD:PUBLISH
X-WR-CALNAME:Michigan Fly Fishing Club
X-ORIGINAL-URL:https://mffc.org
X-WR-CALDESC:Events for Michigan Fly Fishing Club
REFRESH-INTERVAL;VALUE=DURATION:PT1H
X-Robots-Tag:noindex
X-PUBLISHED-TTL:PT1H
BEGIN:VTIMEZONE
TZID:America/Detroit
BEGIN:DAYLIGHT
TZOFFSETFROM:-0500
TZOFFSETTO:-0400
TZNAME:EDT
DTSTART:20250309T070000
END:DAYLIGHT
BEGIN:STANDARD
TZOFFSETFROM:-0400
TZOFFSETTO:-0500
TZNAME:EST
DTSTART:20251102T060000
END:STANDARD
BEGIN:DAYLIGHT
TZOFFSETFROM:-0500
TZOFFSETTO:-0400
TZNAME:EDT
DTSTART:20260308T070000
END:DAYLIGHT
BEGIN:STANDARD
TZOFFSETFROM:-0400
TZOFFSETTO:-0500
TZNAME:EST
DTSTART:20261101T060000
END:STANDARD
BEGIN:DAYLIGHT
TZOFFSETFROM:-0500
TZOFFSETTO:-0400
TZNAME:EDT
DTSTART:20270314T070000
END:DAYLIGHT
BEGIN:STANDARD
TZOFFSETFROM:-0400
TZOFFSETTO:-0500
TZNAME:EST
DTSTART:20271107T060000
END:STANDARD
END:VTIMEZONE
BEGIN:VEVENT
DTSTART;VALUE=DATE:20260801
DTEND;VALUE=DATE:20260809
DTSTAMP:20260419T233056
CREATED:20260102T150831Z
LAST-MODIFIED:20260204T003607Z
UID:1034-1785542400-1786233599@mffc.org
SUMMARY:Montana Trip - Week 1
DESCRIPTION:As of February 3\, 2026\, there is an opening for a 2 person cabin and a 4 person cabin. \n\nMontana Trip Week One is August 1 to August 8. \nOnce again The Michigan Fly Fishing Club will enjoy a trip to the Yellowstone Park area next year. We have 3 weeks reserved again at Driftwaters Resort\, located in the Madison Valley just downstream from Quake Lake. \nDinner is provided each day except Wednesday evening when we travel to Cooke City. Breakfast and lunch items are also provided for each day. \nWednesday evening\, the tradition is for the group to visit the Eastern side of the Park and stay the night in Cooke City. (The Cooke City trip is paid out of pocket at the time.) This allows us to fish the Eastern side streams\, the Lamar River\, Soda Butte and Slough Creek. \nFor more information\, or to make a reservation\, please contact Al Haxton via email at Infoman984@sbcglobal.net or via phone at 989-889-1893.
URL:https://mffc.org/event/montana-trip-week-1/
LOCATION:Driftwater Resort\, 31 Sagebrush Way\, Cameron\, MT\, 59720\, United States
CATEGORIES:Events,Kids,Outings,Women
ATTACH;FMTTYPE=image/jpeg:https://mffc.org/wp-content/uploads/2020/12/Al-Haxton-fishing-MT.jpg
ORGANIZER;CN="Al Haxton":MAILTO:infoman984@sbcglobal.net
END:VEVENT
BEGIN:VEVENT
DTSTART;VALUE=DATE:20260808
DTEND;VALUE=DATE:20260816
DTSTAMP:20260419T233056
CREATED:20260102T151146Z
LAST-MODIFIED:20260204T003930Z
UID:1037-1786147200-1786838399@mffc.org
SUMMARY:Montana Trip - Week 2
DESCRIPTION:As of February 3\, 2026 there is a cabin for 2 still available. \n\nWeek 2 is August 8 to August 15. \nOnce again The Michigan Fly Fishing Club will enjoy a trip to the Yellowstone Park area next year. We have three weeks reserved again at Driftwaters Resort\, located in the Madison Valley just downstream from Quake Lake. \nDuring our visit we provide prepared dinner each day except Wednesday evening\, because the group travels to Cooke City for an over night trip. Breakfast and lunch items are also provided for each day. \nWednesday evening the tradition is for the group to visit the Eastern side of the Park and stay the night in Cooke City – an additional expense. This allows us to fish the Eastern side streams\, the Lamar River\, Soda Butte and Slough Creek. \nFor more information\, or to make a reservation\, please contact Al Haxton via email at Infoman984@sbcglobal.net or via phone at 989-889-1893.
URL:https://mffc.org/event/montana-trip-week-2/
LOCATION:Driftwater Resort\, 31 Sagebrush Way\, Cameron\, MT\, 59720\, United States
CATEGORIES:Events,Kids,Outings,Women
ATTACH;FMTTYPE=image/jpeg:https://mffc.org/wp-content/uploads/2020/12/Dinner-Spread-MT.jpg
ORGANIZER;CN="Al Haxton":MAILTO:infoman984@sbcglobal.net
END:VEVENT
BEGIN:VEVENT
DTSTART;VALUE=DATE:20260815
DTEND;VALUE=DATE:20260823
DTSTAMP:20260419T233056
CREATED:20260103T151351Z
LAST-MODIFIED:20260204T004300Z
UID:1039-1786752000-1787443199@mffc.org
SUMMARY:Montana Trip - Week 3
DESCRIPTION:This week is booked full. \n\nMontana Trip Week 3 with The Hunter Boys is August 15 to August 22. \nOnce again The Michigan Fly Fishing Club will enjoy a trip to the Yellowstone Park area. We have 3 weeks reserved again at Driftwaters Resort\, located in the Madison Valley just downstream from Quake Lake. \nDuring our visit we provide prepared dinner each day except Wednesday evening. Wednesday the group travels to Cooke City to fish on the way\, eat together\, and spend the night in the local hotel. Breakfast and lunch items are also provided for each day. \nWednesday evening the tradition is for the group to visit the Eastern side of the Park and stay the night in Cooke City. This trip is additional. This allows us to fish the Eastern side streams\, the Lamar River\, Soda Butte and Slough Creek. \nFor more information\, or to make a reservation\, please contact Al Haxton via email at Infoman984@sbcglobal.net or via phone at 989-889-1893.
URL:https://mffc.org/event/mffc-trip-yellowstone-park-week-3/
LOCATION:Driftwater Resort\, 31 Sagebrush Way\, Cameron\, MT\, 59720\, United States
CATEGORIES:Events,Kids,Outings,Women
ATTACH;FMTTYPE=image/jpeg:https://mffc.org/wp-content/uploads/2020/12/Sam-Prized-Fish-Montana.jpg
ORGANIZER;CN="Al Haxton":MAILTO:infoman984@sbcglobal.net
END:VEVENT
END:VCALENDAR