BEGIN:VCALENDAR
VERSION:2.0
PRODID:-//Michigan Fly Fishing Club - ECPv6.15.20//NONSGML v1.0//EN
CALSCALE:GREGORIAN
METHOD:PUBLISH
X-ORIGINAL-URL:https://mffc.org
X-WR-CALDESC:Events for Michigan Fly Fishing Club
REFRESH-INTERVAL;VALUE=DURATION:PT1H
X-Robots-Tag:noindex
X-PUBLISHED-TTL:PT1H
BEGIN:VTIMEZONE
TZID:America/Detroit
BEGIN:DAYLIGHT
TZOFFSETFROM:-0500
TZOFFSETTO:-0400
TZNAME:EDT
DTSTART:20250309T070000
END:DAYLIGHT
BEGIN:STANDARD
TZOFFSETFROM:-0400
TZOFFSETTO:-0500
TZNAME:EST
DTSTART:20251102T060000
END:STANDARD
BEGIN:DAYLIGHT
TZOFFSETFROM:-0500
TZOFFSETTO:-0400
TZNAME:EDT
DTSTART:20260308T070000
END:DAYLIGHT
BEGIN:STANDARD
TZOFFSETFROM:-0400
TZOFFSETTO:-0500
TZNAME:EST
DTSTART:20261101T060000
END:STANDARD
BEGIN:DAYLIGHT
TZOFFSETFROM:-0500
TZOFFSETTO:-0400
TZNAME:EDT
DTSTART:20270314T070000
END:DAYLIGHT
BEGIN:STANDARD
TZOFFSETFROM:-0400
TZOFFSETTO:-0500
TZNAME:EST
DTSTART:20271107T060000
END:STANDARD
END:VTIMEZONE
BEGIN:VEVENT
DTSTART;TZID=America/Detroit:20260425T090000
DTEND;TZID=America/Detroit:20260425T110000
DTSTAMP:20260419T171927
CREATED:20250825T142149Z
LAST-MODIFIED:20250825T192224Z
UID:451-1777107600-1777114800@mffc.org
SUMMARY:Trout Opening Day & Remembrance
DESCRIPTION:Join Club members at Gates Au Sable Lodge\, under the tent with breakfast bakery treats\, fruit\, and Bloody Marys available for attendees 9am to 11am. \nPlease park at the Stephan Bridge canoe access site to keep the parking lot open at the Lodge. \nWe will shop\, get the fishing report\, share fishing stories\, remember departed friends\, and partake in some delicious mid-morning snacks! \nAs always\, we will share good times\, stories and remember good friends that are no longer fishing with us. \nCome join us for the celebration! When it is time to adjourn to the river\, we can all seek the most beautiful fish in the world – the Michigan Brook Trout. \n 
URL:https://mffc.org/event/trout-opening-day-remembrance-mffc/
LOCATION:Gates Au Sable Lodge\, 471 Stephan Bridge Road\, Grayling\, MI\, 49738\, United States
CATEGORIES:Events,Outings,Women
ATTACH;FMTTYPE=image/jpeg:https://mffc.org/wp-content/uploads/2020/08/Opening-Day-2022.jpg
ORGANIZER;CN="Al Haxton":MAILTO:infoman984@sbcglobal.net
END:VEVENT
END:VCALENDAR