BEGIN:VCALENDAR
VERSION:2.0
PRODID:-//Michigan Fly Fishing Club - ECPv6.15.20//NONSGML v1.0//EN
CALSCALE:GREGORIAN
METHOD:PUBLISH
X-WR-CALNAME:Michigan Fly Fishing Club
X-ORIGINAL-URL:https://mffc.org
X-WR-CALDESC:Events for Michigan Fly Fishing Club
REFRESH-INTERVAL;VALUE=DURATION:PT1H
X-Robots-Tag:noindex
X-PUBLISHED-TTL:PT1H
BEGIN:VTIMEZONE
TZID:America/Detroit
BEGIN:DAYLIGHT
TZOFFSETFROM:-0500
TZOFFSETTO:-0400
TZNAME:EDT
DTSTART:20230312T070000
END:DAYLIGHT
BEGIN:STANDARD
TZOFFSETFROM:-0400
TZOFFSETTO:-0500
TZNAME:EST
DTSTART:20231105T060000
END:STANDARD
BEGIN:DAYLIGHT
TZOFFSETFROM:-0500
TZOFFSETTO:-0400
TZNAME:EDT
DTSTART:20240310T070000
END:DAYLIGHT
BEGIN:STANDARD
TZOFFSETFROM:-0400
TZOFFSETTO:-0500
TZNAME:EST
DTSTART:20241103T060000
END:STANDARD
BEGIN:DAYLIGHT
TZOFFSETFROM:-0500
TZOFFSETTO:-0400
TZNAME:EDT
DTSTART:20250309T070000
END:DAYLIGHT
BEGIN:STANDARD
TZOFFSETFROM:-0400
TZOFFSETTO:-0500
TZNAME:EST
DTSTART:20251102T060000
END:STANDARD
END:VTIMEZONE
BEGIN:VEVENT
DTSTART;TZID=America/Detroit:20240907T100000
DTEND;TZID=America/Detroit:20240907T130000
DTSTAMP:20260424T102455
CREATED:20241228T174607Z
LAST-MODIFIED:20241228T181053Z
UID:112-1725703200-1725714000@mffc.org
SUMMARY:AuSable River Cleanup
DESCRIPTION:PLEASE PRE-REGISTER FOR THIS EVENT \nEach September\, on the Saturday after Labor Day\, the Michigan Fly Fishing Club spends time together with many other fly fishers from around the state to walk areas of our beloved AuSable River and clean debris from its river bottom and banks. The cleanup\, sponsored by the Anglers of the AuSable\, is a wonderful way to give something back to the river we fish during the summer. \nWe wade ‘beats’ that run from one access point to another and with our poking sticks and plastic rubbish bags to collect items that have been dropped or lost during the summer. Between beer cans\, flip flops and the occasional bathing suit its always an adventure. \nSign up by Email:  Josh@GatesLodge.com\nOr call:  989-348-8462 \nEvents get under way at 10 a.m. meeting at Gates Lodge.  \nFood will be available at Gates at noon.  \nSupport the Club by wearing your MFFC gear.
URL:https://mffc.org/event/ausable-cleanup/
LOCATION:Gates Au Sable Lodge\, 471 Stephan Bridge Road\, Grayling\, MI\, 49738\, United States
CATEGORIES:Conservation,Events,Outings
ATTACH;FMTTYPE=image/jpeg:https://mffc.org/wp-content/uploads/2020/06/Cleaning-our-river.jpg
ORGANIZER;CN="Josh Greenberg":MAILTO:josh@gateslodge.com
END:VEVENT
END:VCALENDAR