BEGIN:VCALENDAR
VERSION:2.0
PRODID:-//Michigan Fly Fishing Club - ECPv6.15.20//NONSGML v1.0//EN
CALSCALE:GREGORIAN
METHOD:PUBLISH
X-ORIGINAL-URL:https://mffc.org
X-WR-CALDESC:Events for Michigan Fly Fishing Club
REFRESH-INTERVAL;VALUE=DURATION:PT1H
X-Robots-Tag:noindex
X-PUBLISHED-TTL:PT1H
BEGIN:VTIMEZONE
TZID:America/Detroit
BEGIN:DAYLIGHT
TZOFFSETFROM:-0500
TZOFFSETTO:-0400
TZNAME:EDT
DTSTART:20240310T070000
END:DAYLIGHT
BEGIN:STANDARD
TZOFFSETFROM:-0400
TZOFFSETTO:-0500
TZNAME:EST
DTSTART:20241103T060000
END:STANDARD
BEGIN:DAYLIGHT
TZOFFSETFROM:-0500
TZOFFSETTO:-0400
TZNAME:EDT
DTSTART:20250309T070000
END:DAYLIGHT
BEGIN:STANDARD
TZOFFSETFROM:-0400
TZOFFSETTO:-0500
TZNAME:EST
DTSTART:20251102T060000
END:STANDARD
BEGIN:DAYLIGHT
TZOFFSETFROM:-0500
TZOFFSETTO:-0400
TZNAME:EDT
DTSTART:20260308T070000
END:DAYLIGHT
BEGIN:STANDARD
TZOFFSETFROM:-0400
TZOFFSETTO:-0500
TZNAME:EST
DTSTART:20261101T060000
END:STANDARD
END:VTIMEZONE
BEGIN:VEVENT
DTSTART;TZID=America/Detroit:20250726T100000
DTEND;TZID=America/Detroit:20250726T150000
DTSTAMP:20260420T091406
CREATED:20250117T140153Z
LAST-MODIFIED:20250706T192317Z
UID:4508-1753524000-1753542000@mffc.org
SUMMARY:Grindstone Port Hope Youth Outdoor Education Day
DESCRIPTION:We are confirmed at the Kid’s Day at the Port Hope Grindstone City Kid’s Day event! The MFFC was requested to come back to tie with kids at the Grindstone Port Hope Youth Outdoor Education Day. \nVolunteers are needed and appreciated. This is a one day limited event. Volunteers will be tying wooly buggers with kids. All supplies are provided by the MFFC. \nJuly 26th their program is from 10-3. \nSet up starts at 8 am. We don’t need that much time to set up\, there will be a tent\, table and chairs provided for us. (Although extra chairs are always a positive thing.) \nContact John Eriksson for info.
URL:https://mffc.org/event/mffc-tying-grindstone-port-hope-youth-outdoor-education-day/
LOCATION:Grindstone Port Hope Sortsmens Club\, 6101 Huron City Rd\, Port Hope\, MI\, 48468\, United States
CATEGORIES:Education,Events,Kids
ATTACH;FMTTYPE=image/jpeg:https://mffc.org/wp-content/uploads/2020/10/Dave-Hunter-tying-with-kids.jpg
ORGANIZER;CN="John Eriksson":MAILTO:johneriksson5@aol.com
END:VEVENT
END:VCALENDAR