BEGIN:VCALENDAR
VERSION:2.0
PRODID:-//Michigan Fly Fishing Club - ECPv6.15.20//NONSGML v1.0//EN
CALSCALE:GREGORIAN
METHOD:PUBLISH
X-ORIGINAL-URL:https://mffc.org
X-WR-CALDESC:Events for Michigan Fly Fishing Club
REFRESH-INTERVAL;VALUE=DURATION:PT1H
X-Robots-Tag:noindex
X-PUBLISHED-TTL:PT1H
BEGIN:VTIMEZONE
TZID:America/Detroit
BEGIN:DAYLIGHT
TZOFFSETFROM:-0500
TZOFFSETTO:-0400
TZNAME:EDT
DTSTART:20240310T070000
END:DAYLIGHT
BEGIN:STANDARD
TZOFFSETFROM:-0400
TZOFFSETTO:-0500
TZNAME:EST
DTSTART:20241103T060000
END:STANDARD
BEGIN:DAYLIGHT
TZOFFSETFROM:-0500
TZOFFSETTO:-0400
TZNAME:EDT
DTSTART:20250309T070000
END:DAYLIGHT
BEGIN:STANDARD
TZOFFSETFROM:-0400
TZOFFSETTO:-0500
TZNAME:EST
DTSTART:20251102T060000
END:STANDARD
BEGIN:DAYLIGHT
TZOFFSETFROM:-0500
TZOFFSETTO:-0400
TZNAME:EDT
DTSTART:20260308T070000
END:DAYLIGHT
BEGIN:STANDARD
TZOFFSETFROM:-0400
TZOFFSETTO:-0500
TZNAME:EST
DTSTART:20261101T060000
END:STANDARD
END:VTIMEZONE
BEGIN:VEVENT
DTSTART;TZID=America/Detroit:20250926T100000
DTEND;TZID=America/Detroit:20250927T170000
DTSTAMP:20260420T061616
CREATED:20250706T174948Z
LAST-MODIFIED:20250815T222204Z
UID:4641-1758880800-1758992400@mffc.org
SUMMARY:FFI Flyfest
DESCRIPTION:Of Note:  The Michigan Fly Fishing Club is an affiliate Club of Fly Fishers International. Our fly fishing events are insured through the FFI. We are also an active member of the FFI Great Lakes Council.  \n\nFly Fishers International is proud to gather our members and the fly fishing community in Grand Rapids for  \nFFI Flyfest\, September 26th & 27th 2025.\nWe’ve heard the calls for a return to an in-person event\, and this will be a wonderful location. Offering easy air travel options\, and centrally located for highway travel\, Grand Rapids is also a hub of culture and entertainment options along with plenty of fly fishing to be done in the area. \nFFI Flyfest 2025 will once again offer an extensive slate of indoor and outdoor workshops\, presentations\, and demonstrations for all experience levels and covering topics including fly casting\, fly tying\, and important conservation partnerships. \nWe’re thrilled to return to an in-person experience filled with hands-on learning\, shared stories\, and the spirit of fly fishing.  In September\, Fly Fishers International\, will be in your area providing those opportunities to our members and guests. \nWhat to Expect: \n\nIndoor & outdoor workshops\nFly casting & tying demos\nConservation presentations\nEducation for all skill levels\nConnection with anglers from around the world\n\nThe event will be held at the Grand Rapids Sheraton Inn Airport on September 26-27.  We are writing to ask if your club will help us promote the event to your members\, giving them an opportunity to volunteer\,  and to determine if your club would be interested in a free exhibit table to promote your club to our attendees.  The table will be located in the Atrium which serves as the entrance to the tying demo and seminar area and is the hub of activity during the 2-day event. Many presentations are pay to attend. \nAny volunteer who signs up to work 4 hours during the 2-day event will get a free registration to the event\, a $75 value.   We will provide a coupon code for those who qualify. \nhttps://flyfishersinternational.wufoo.com/forms/volunteer-form-2025/ \nWe appreciate any help you can provide and look forward to your response on whether your club would like a free table at the event.   You can register and find the event schedule here: \nhttps://www.flyfishersinternational.org/flyfest \n\nClick here to download the official event flyer to register!\nClick here for the direct pay registration link.\nThe event will be held at the Grand Rapids Sheraton Inn Airport Hotel.
URL:https://mffc.org/event/ffi-flyfest/
LOCATION:Grand Rapids Sheraton Airport Hotel\, 5700 28th Street Southeast\, Grand Rapids\, MI\, 49546\, United States
CATEGORIES:Education,Events,Outings,Women
ATTACH;FMTTYPE=image/png:https://mffc.org/wp-content/uploads/2025/01/unnamed.png
ORGANIZER;CN="Rhonda Sellers":MAILTO:operations@flyfishersinternational.org
END:VEVENT
END:VCALENDAR