BEGIN:VCALENDAR
VERSION:2.0
PRODID:-//Michigan Fly Fishing Club - ECPv6.15.20//NONSGML v1.0//EN
CALSCALE:GREGORIAN
METHOD:PUBLISH
X-ORIGINAL-URL:https://mffc.org
X-WR-CALDESC:Events for Michigan Fly Fishing Club
REFRESH-INTERVAL;VALUE=DURATION:PT1H
X-Robots-Tag:noindex
X-PUBLISHED-TTL:PT1H
BEGIN:VTIMEZONE
TZID:America/Detroit
BEGIN:DAYLIGHT
TZOFFSETFROM:-0500
TZOFFSETTO:-0400
TZNAME:EDT
DTSTART:20250309T070000
END:DAYLIGHT
BEGIN:STANDARD
TZOFFSETFROM:-0400
TZOFFSETTO:-0500
TZNAME:EST
DTSTART:20251102T060000
END:STANDARD
BEGIN:DAYLIGHT
TZOFFSETFROM:-0500
TZOFFSETTO:-0400
TZNAME:EDT
DTSTART:20260308T070000
END:DAYLIGHT
BEGIN:STANDARD
TZOFFSETFROM:-0400
TZOFFSETTO:-0500
TZNAME:EST
DTSTART:20261101T060000
END:STANDARD
BEGIN:DAYLIGHT
TZOFFSETFROM:-0500
TZOFFSETTO:-0400
TZNAME:EDT
DTSTART:20270314T070000
END:DAYLIGHT
BEGIN:STANDARD
TZOFFSETFROM:-0400
TZOFFSETTO:-0500
TZNAME:EST
DTSTART:20271107T060000
END:STANDARD
END:VTIMEZONE
BEGIN:VEVENT
DTSTART;TZID=America/Detroit:20260919T080000
DTEND;TZID=America/Detroit:20260920T160000
DTSTAMP:20260420T003817
CREATED:20260409T052806Z
LAST-MODIFIED:20260409T213254Z
UID:5231-1789804800-1789920000@mffc.org
SUMMARY:Pointe Mouille Waterfowl Festival - Tying With Kids
DESCRIPTION:Volunteers are needed to represent the MFFC tying wooly buggers with kids. All supplies are provided. \nThe event both celebrates\, and takes place at Pointe Mouillee State Game Area\, a 4\,000+ acre wetland restoration project located on the western shore of Lake Erie in Southeast Michigan. It is located near Rockwood and spans across both Monroe and Wayne counties.  \n\n\n\n\n\nFor directions click here. \nContact John Eriksson\, chairman.
URL:https://mffc.org/event/pointe-mouille-waterfowl-festival-tying-with-kids/
LOCATION:Pointe Mouilee DNR Station\, 37205 Pt. Mouillee Rd.\, Brownstown\, MI\, 48173\, United States
CATEGORIES:Conservation,Education,Events,Kids,Outings
ATTACH;FMTTYPE=image/jpeg:https://mffc.org/wp-content/uploads/2025/09/PtMouilleWaterfowlFesLogo.jpg
ORGANIZER;CN="John Eriksson":MAILTO:johneriksson5@aol.com
END:VEVENT
END:VCALENDAR